BEGIN:VCALENDAR
VERSION:2.0
PRODID:-//Lončarski center Maribor - ECPv6.15.13//NONSGML v1.0//EN
CALSCALE:GREGORIAN
METHOD:PUBLISH
X-ORIGINAL-URL:https://loncarskicentermaribor.si
X-WR-CALDESC:Dogodki za Lončarski center Maribor
REFRESH-INTERVAL;VALUE=DURATION:PT1H
X-Robots-Tag:noindex
X-PUBLISHED-TTL:PT1H
BEGIN:VTIMEZONE
TZID:Europe/Ljubljana
BEGIN:DAYLIGHT
TZOFFSETFROM:+0100
TZOFFSETTO:+0200
TZNAME:CEST
DTSTART:20220327T010000
END:DAYLIGHT
BEGIN:STANDARD
TZOFFSETFROM:+0200
TZOFFSETTO:+0100
TZNAME:CET
DTSTART:20221030T010000
END:STANDARD
BEGIN:DAYLIGHT
TZOFFSETFROM:+0100
TZOFFSETTO:+0200
TZNAME:CEST
DTSTART:20230326T010000
END:DAYLIGHT
BEGIN:STANDARD
TZOFFSETFROM:+0200
TZOFFSETTO:+0100
TZNAME:CET
DTSTART:20231029T010000
END:STANDARD
BEGIN:DAYLIGHT
TZOFFSETFROM:+0100
TZOFFSETTO:+0200
TZNAME:CEST
DTSTART:20240331T010000
END:DAYLIGHT
BEGIN:STANDARD
TZOFFSETFROM:+0200
TZOFFSETTO:+0100
TZNAME:CET
DTSTART:20241027T010000
END:STANDARD
END:VTIMEZONE
BEGIN:VEVENT
DTSTART;TZID=Europe/Ljubljana:20231208T170000
DTEND;TZID=Europe/Ljubljana:20231208T200000
DTSTAMP:20260423T060539
CREATED:20231119T083850Z
LAST-MODIFIED:20231119T084336Z
UID:10001382-1702054800-1702065600@loncarskicentermaribor.si
SUMMARY:DESTILACIJA POMARANČE IN SIVKE
DESCRIPTION:Destilacija pomaranče in sivke \n𝟑. 𝐒𝐊𝐋𝐎𝐏 \n\ndestilacija pomaranče in sivke\nprikaz načina destiliranja na manjšem destilatorju\nudeleženci izvedo nekaj splošnih informacij o destilaciji na klasičnem bakrenem alembiku\, lastnostih in učinkih hidrolata in eteričnega olja prave sivke ter prisostvujejo destilaciji prave sivke ali drugega zelišča ali citrusov\nudeleženci domov odnesejo 100% eterično olje ekološke prave sivke in 100% hidrolat ekološke prave sivke ter pomaranče\nCena: 120 €\n\nV delavnici na Lentu\, Mesarski prehod 5\, Maribor \nZ vami bo Dušan \nPrijave na 031-758-121
URL:https://loncarskicentermaribor.si/dogodek/izdelava-naravnih-mil-2/
LOCATION:Mesarski prehod 5\, 2000 Maribor (Lent)\, Mesarski prehod 5\, Maribor\, 2000\, Slovenija
CATEGORIES:Za odrasle
ORGANIZER;CN="ApiLavandula":MAILTO:apilavandula@gmail.com
END:VEVENT
BEGIN:VEVENT
DTSTART;TZID=Europe/Ljubljana:20231125T170000
DTEND;TZID=Europe/Ljubljana:20231125T200000
DTSTAMP:20260423T060539
CREATED:20231113T191536Z
LAST-MODIFIED:20231119T082711Z
UID:10001289-1700931600-1700942400@loncarskicentermaribor.si
SUMMARY:IZDELAVA NARAVNIH MIL
DESCRIPTION:NARAVNA MILA PO KLASIČNEM POSTOPKU \n\nSKLOP\n\n\nv soboto 25. novembra\nmed 17.00 in 20.00 uro\nv delavnici na Mlinski ulici 24\n\nV prvem delu delavnice udeleženci pridobijo osnovno razumevanje izdelave mil po hitrem in klasičnem postopku. Podrobno se seznanijo s procesom ustvarjanja glicerinskega mila\, ki je znan po svoji hitri in enostavni izdelavi. Hkrati pa se učijo tudi o klasičnem postopku\, ki zahteva več časa in truda\, vendar omogoča ustvarjanje mila na bolj tradicionalen način. \nV tem delu delavnice udeleženci aktivno sodelujejo pri samem procesu izdelave mila. Spoznajo različne sestavine in postopke\, ki so ključni pri vsaki metodi. Razložimo jim tudi razlike med glicerinskim milom in milom po klasičnem postopku\, vključno z učinki na kožo in posebnostmi vsakega postopka. \nNa koncu tega sklopa delavnice udeleženci odnesejo domov svoje ročno izdelano glicerinsko milo in 100% ekološko milo\, narejeno po klasičnem postopku. To praktično doživetje jim omogoča\, da bolje razumejo postopek izdelave mila in hkrati cenijo kakovost naravnih sestavin\, ki jih vključujejo v svoje izdelke. S tem pa pridobijo tudi trajen spomin in uporabno darilo\, ki odraža njihovo lastno ustvarjalnost in znanje pridobljeno na delavnici. \nV delavnici na Lentu\, Mesarski prehod 5\, Maribor \nZ vami bo Dušan \nPrijave na 031-758-121
URL:https://loncarskicentermaribor.si/dogodek/izdelava-naravnih-mil/
LOCATION:Mesarski prehod 5\, 2000 Maribor (Lent)\, Mesarski prehod 5\, Maribor\, 2000\, Slovenija
CATEGORIES:Za odrasle
ATTACH;FMTTYPE=image/jpeg:https://loncarskicentermaribor.si/wp-content/uploads/2023/11/2.jpeg
ORGANIZER;CN="ApiLavandula":MAILTO:apilavandula@gmail.com
END:VEVENT
END:VCALENDAR