BEGIN:VCALENDAR
VERSION:2.0
PRODID:-//Lončarski center Maribor - ECPv6.15.13//NONSGML v1.0//EN
CALSCALE:GREGORIAN
METHOD:PUBLISH
X-ORIGINAL-URL:https://loncarskicentermaribor.si
X-WR-CALDESC:Dogodki za Lončarski center Maribor
REFRESH-INTERVAL;VALUE=DURATION:PT1H
X-Robots-Tag:noindex
X-PUBLISHED-TTL:PT1H
BEGIN:VTIMEZONE
TZID:Europe/Ljubljana
BEGIN:DAYLIGHT
TZOFFSETFROM:+0100
TZOFFSETTO:+0200
TZNAME:CEST
DTSTART:20240331T010000
END:DAYLIGHT
BEGIN:STANDARD
TZOFFSETFROM:+0200
TZOFFSETTO:+0100
TZNAME:CET
DTSTART:20241027T010000
END:STANDARD
BEGIN:DAYLIGHT
TZOFFSETFROM:+0100
TZOFFSETTO:+0200
TZNAME:CEST
DTSTART:20250330T010000
END:DAYLIGHT
BEGIN:STANDARD
TZOFFSETFROM:+0200
TZOFFSETTO:+0100
TZNAME:CET
DTSTART:20251026T010000
END:STANDARD
BEGIN:DAYLIGHT
TZOFFSETFROM:+0100
TZOFFSETTO:+0200
TZNAME:CEST
DTSTART:20260329T010000
END:DAYLIGHT
BEGIN:STANDARD
TZOFFSETFROM:+0200
TZOFFSETTO:+0100
TZNAME:CET
DTSTART:20261025T010000
END:STANDARD
END:VTIMEZONE
BEGIN:VEVENT
DTSTART;TZID=Europe/Ljubljana:20250714T090000
DTEND;TZID=Europe/Ljubljana:20250714T130000
DTSTAMP:20260421T211751
CREATED:20250330T165039Z
LAST-MODIFIED:20250330T165612Z
UID:10005328-1752483600-1752498000@loncarskicentermaribor.si
SUMMARY:OTROŠKO POČITNIŠKO VARSTVO - 3. termin
DESCRIPTION:KREATIVNE POČITNICE ZA OTROKE\n\nIzkoristite počitnice svojih otrok za sproščeno in hkrati kreativno ustvarjanje\, krepitev motoričnih znanj\, vzpodbujanje ustvarjalnosti\, potrpežljivosti\, natančnosti\, vztrajnosti in prijetnega druženja.\n\n\n\n\n\nVsak dan:\n\nmed 9.00 in 13.00 uro\nv delavnici na Lentu\, Mesarski prehod 5\nvključena malica\nstarost otrok od 5 do 15 let\nomejeno število otrok v skupini\n130 € / 5 dni\n35 € / 1 dan\n10 % družinski popust na drugega in tretjega otroka iz iste družine\n\n  \nVSE INFORMACIJE O POČITNIŠKEM VARSTVU \nPrijave sprejemamo na:\n info@loncarskicentermaribor.si\n 064 153 671\n\n\n\n\n\nMožno je rezervirati tudi druge termine po dogovoru za: \n\nOtroška praznovanja\nPraznovanja za odrasle\nSamostojno ustvarjanje\nTeam Building za skupine / 4 ali več kot 4 osebe\nLončarske pokušine in izkušnje za več oseb\nSouporaba delavnice na Lentu\, najem po urah ali mesečni najem
URL:https://loncarskicentermaribor.si/dogodek/otrosko-pocitnisko-varstvo-3-termin-2/2025-07-14/
LOCATION:Mesarski prehod 5\, 2000 Maribor (Lent)\, Mesarski prehod 5\, Maribor\, 2000\, Slovenija
ATTACH;FMTTYPE=image/png:https://loncarskicentermaribor.si/wp-content/uploads/2025/03/LCM_web-20.png
ORGANIZER;CN="Lon%C4%8Darski center Maribor":MAILTO:info@loncarskicentermaribor.si
END:VEVENT
BEGIN:VEVENT
DTSTART;TZID=Europe/Ljubljana:20250715T090000
DTEND;TZID=Europe/Ljubljana:20250715T130000
DTSTAMP:20260421T211751
CREATED:20250330T165039Z
LAST-MODIFIED:20250330T165612Z
UID:10005331-1752570000-1752584400@loncarskicentermaribor.si
SUMMARY:OTROŠKO POČITNIŠKO VARSTVO - 3. termin
DESCRIPTION:KREATIVNE POČITNICE ZA OTROKE\n\nIzkoristite počitnice svojih otrok za sproščeno in hkrati kreativno ustvarjanje\, krepitev motoričnih znanj\, vzpodbujanje ustvarjalnosti\, potrpežljivosti\, natančnosti\, vztrajnosti in prijetnega druženja.\n\n\n\n\n\nVsak dan:\n\nmed 9.00 in 13.00 uro\nv delavnici na Lentu\, Mesarski prehod 5\nvključena malica\nstarost otrok od 5 do 15 let\nomejeno število otrok v skupini\n130 € / 5 dni\n35 € / 1 dan\n10 % družinski popust na drugega in tretjega otroka iz iste družine\n\n  \nVSE INFORMACIJE O POČITNIŠKEM VARSTVU \nPrijave sprejemamo na:\n info@loncarskicentermaribor.si\n 064 153 671\n\n\n\n\n\nMožno je rezervirati tudi druge termine po dogovoru za: \n\nOtroška praznovanja\nPraznovanja za odrasle\nSamostojno ustvarjanje\nTeam Building za skupine / 4 ali več kot 4 osebe\nLončarske pokušine in izkušnje za več oseb\nSouporaba delavnice na Lentu\, najem po urah ali mesečni najem
URL:https://loncarskicentermaribor.si/dogodek/otrosko-pocitnisko-varstvo-3-termin-2/2025-07-15/
LOCATION:Mesarski prehod 5\, 2000 Maribor (Lent)\, Mesarski prehod 5\, Maribor\, 2000\, Slovenija
ATTACH;FMTTYPE=image/png:https://loncarskicentermaribor.si/wp-content/uploads/2025/03/LCM_web-20.png
ORGANIZER;CN="Lon%C4%8Darski center Maribor":MAILTO:info@loncarskicentermaribor.si
END:VEVENT
BEGIN:VEVENT
DTSTART;TZID=Europe/Ljubljana:20250716T090000
DTEND;TZID=Europe/Ljubljana:20250716T130000
DTSTAMP:20260421T211751
CREATED:20250330T165039Z
LAST-MODIFIED:20250330T165612Z
UID:10005332-1752656400-1752670800@loncarskicentermaribor.si
SUMMARY:OTROŠKO POČITNIŠKO VARSTVO - 3. termin
DESCRIPTION:KREATIVNE POČITNICE ZA OTROKE\n\nIzkoristite počitnice svojih otrok za sproščeno in hkrati kreativno ustvarjanje\, krepitev motoričnih znanj\, vzpodbujanje ustvarjalnosti\, potrpežljivosti\, natančnosti\, vztrajnosti in prijetnega druženja.\n\n\n\n\n\nVsak dan:\n\nmed 9.00 in 13.00 uro\nv delavnici na Lentu\, Mesarski prehod 5\nvključena malica\nstarost otrok od 5 do 15 let\nomejeno število otrok v skupini\n130 € / 5 dni\n35 € / 1 dan\n10 % družinski popust na drugega in tretjega otroka iz iste družine\n\n  \nVSE INFORMACIJE O POČITNIŠKEM VARSTVU \nPrijave sprejemamo na:\n info@loncarskicentermaribor.si\n 064 153 671\n\n\n\n\n\nMožno je rezervirati tudi druge termine po dogovoru za: \n\nOtroška praznovanja\nPraznovanja za odrasle\nSamostojno ustvarjanje\nTeam Building za skupine / 4 ali več kot 4 osebe\nLončarske pokušine in izkušnje za več oseb\nSouporaba delavnice na Lentu\, najem po urah ali mesečni najem
URL:https://loncarskicentermaribor.si/dogodek/otrosko-pocitnisko-varstvo-3-termin-2/2025-07-16/
LOCATION:Mesarski prehod 5\, 2000 Maribor (Lent)\, Mesarski prehod 5\, Maribor\, 2000\, Slovenija
ATTACH;FMTTYPE=image/png:https://loncarskicentermaribor.si/wp-content/uploads/2025/03/LCM_web-20.png
ORGANIZER;CN="Lon%C4%8Darski center Maribor":MAILTO:info@loncarskicentermaribor.si
END:VEVENT
BEGIN:VEVENT
DTSTART;TZID=Europe/Ljubljana:20250717T090000
DTEND;TZID=Europe/Ljubljana:20250717T130000
DTSTAMP:20260421T211751
CREATED:20250330T165039Z
LAST-MODIFIED:20250330T165612Z
UID:10005333-1752742800-1752757200@loncarskicentermaribor.si
SUMMARY:OTROŠKO POČITNIŠKO VARSTVO - 3. termin
DESCRIPTION:KREATIVNE POČITNICE ZA OTROKE\n\nIzkoristite počitnice svojih otrok za sproščeno in hkrati kreativno ustvarjanje\, krepitev motoričnih znanj\, vzpodbujanje ustvarjalnosti\, potrpežljivosti\, natančnosti\, vztrajnosti in prijetnega druženja.\n\n\n\n\n\nVsak dan:\n\nmed 9.00 in 13.00 uro\nv delavnici na Lentu\, Mesarski prehod 5\nvključena malica\nstarost otrok od 5 do 15 let\nomejeno število otrok v skupini\n130 € / 5 dni\n35 € / 1 dan\n10 % družinski popust na drugega in tretjega otroka iz iste družine\n\n  \nVSE INFORMACIJE O POČITNIŠKEM VARSTVU \nPrijave sprejemamo na:\n info@loncarskicentermaribor.si\n 064 153 671\n\n\n\n\n\nMožno je rezervirati tudi druge termine po dogovoru za: \n\nOtroška praznovanja\nPraznovanja za odrasle\nSamostojno ustvarjanje\nTeam Building za skupine / 4 ali več kot 4 osebe\nLončarske pokušine in izkušnje za več oseb\nSouporaba delavnice na Lentu\, najem po urah ali mesečni najem
URL:https://loncarskicentermaribor.si/dogodek/otrosko-pocitnisko-varstvo-3-termin-2/2025-07-17/
LOCATION:Mesarski prehod 5\, 2000 Maribor (Lent)\, Mesarski prehod 5\, Maribor\, 2000\, Slovenija
ATTACH;FMTTYPE=image/png:https://loncarskicentermaribor.si/wp-content/uploads/2025/03/LCM_web-20.png
ORGANIZER;CN="Lon%C4%8Darski center Maribor":MAILTO:info@loncarskicentermaribor.si
END:VEVENT
BEGIN:VEVENT
DTSTART;TZID=Europe/Ljubljana:20250718T090000
DTEND;TZID=Europe/Ljubljana:20250718T130000
DTSTAMP:20260421T211751
CREATED:20250330T165039Z
LAST-MODIFIED:20250330T165612Z
UID:10005334-1752829200-1752843600@loncarskicentermaribor.si
SUMMARY:OTROŠKO POČITNIŠKO VARSTVO - 3. termin
DESCRIPTION:KREATIVNE POČITNICE ZA OTROKE\n\nIzkoristite počitnice svojih otrok za sproščeno in hkrati kreativno ustvarjanje\, krepitev motoričnih znanj\, vzpodbujanje ustvarjalnosti\, potrpežljivosti\, natančnosti\, vztrajnosti in prijetnega druženja.\n\n\n\n\n\nVsak dan:\n\nmed 9.00 in 13.00 uro\nv delavnici na Lentu\, Mesarski prehod 5\nvključena malica\nstarost otrok od 5 do 15 let\nomejeno število otrok v skupini\n130 € / 5 dni\n35 € / 1 dan\n10 % družinski popust na drugega in tretjega otroka iz iste družine\n\n  \nVSE INFORMACIJE O POČITNIŠKEM VARSTVU \nPrijave sprejemamo na:\n info@loncarskicentermaribor.si\n 064 153 671\n\n\n\n\n\nMožno je rezervirati tudi druge termine po dogovoru za: \n\nOtroška praznovanja\nPraznovanja za odrasle\nSamostojno ustvarjanje\nTeam Building za skupine / 4 ali več kot 4 osebe\nLončarske pokušine in izkušnje za več oseb\nSouporaba delavnice na Lentu\, najem po urah ali mesečni najem
URL:https://loncarskicentermaribor.si/dogodek/otrosko-pocitnisko-varstvo-3-termin-2/2025-07-18/
LOCATION:Mesarski prehod 5\, 2000 Maribor (Lent)\, Mesarski prehod 5\, Maribor\, 2000\, Slovenija
ATTACH;FMTTYPE=image/png:https://loncarskicentermaribor.si/wp-content/uploads/2025/03/LCM_web-20.png
ORGANIZER;CN="Lon%C4%8Darski center Maribor":MAILTO:info@loncarskicentermaribor.si
END:VEVENT
BEGIN:VEVENT
DTSTART;TZID=Europe/Ljubljana:20250719T090000
DTEND;TZID=Europe/Ljubljana:20250719T120000
DTSTAMP:20260421T211751
CREATED:20251004T160634Z
LAST-MODIFIED:20251010T093042Z
UID:10006649-1752915600-1752926400@loncarskicentermaribor.si
SUMMARY:OTROCI\, DRUŽINE ali POSAMEZNIKI
DESCRIPTION:Delavnica oblikovanja gline za otroke\, družine ali posameznike \nSobotni termin je na voljo med 9.00 in 12.00 uro \nIzbirate lahko med raznovrstnimi delavnicami: \n\nDelavnica oblikovanja gline za otroke\, 90 minut /20 €\, 2 uri / 25€  ali  3 ure / 35 €\nDružinska delavnica\, 2 uri / 25 € po osebi\nLončarska pokušina\, 2 uri / 35 €\nLončarska izkušnja\, 3 ure / 45 €\n\n  \nV delavnici na Lentu\, Mesarski prehod 5 ali na Mlinski ulici 24\, Maribor \nPrijave na: 064 153 671\ninfo@loncarskicentermaribor.si \n  \nMožno je rezervirati tudi druge termine po dogovoru za: \n\nOtroška praznovanja\nPraznovanja za odrasle\nSamostojno ustvarjanje\nTeam Building za skupine / 4 ali več kot 4 osebe\nLončarske pokušine in izkušnje za več oseb\nSouporaba delavnice in pripomočkov\, najem po urah ali mesečni najem
URL:https://loncarskicentermaribor.si/dogodek/otroci-druzine-ali-posamezniki-4/2025-07-19/
LOCATION:Mesarski prehod 5\, 2000 Maribor (Lent)\, Mesarski prehod 5\, Maribor\, 2000\, Slovenija
CATEGORIES:Za odrasle,Za otroke
ATTACH;FMTTYPE=image/png:https://loncarskicentermaribor.si/wp-content/uploads/2025/10/LCM_web1-14-1.png
ORGANIZER;CN="Lon%C4%8Darski center Maribor":MAILTO:info@loncarskicentermaribor.si
END:VEVENT
END:VCALENDAR