BEGIN:VCALENDAR
VERSION:2.0
PRODID:-//Lončarski center Maribor - ECPv6.15.13//NONSGML v1.0//EN
CALSCALE:GREGORIAN
METHOD:PUBLISH
X-ORIGINAL-URL:https://loncarskicentermaribor.si
X-WR-CALDESC:Dogodki za Lončarski center Maribor
REFRESH-INTERVAL;VALUE=DURATION:PT1H
X-Robots-Tag:noindex
X-PUBLISHED-TTL:PT1H
BEGIN:VTIMEZONE
TZID:Europe/Ljubljana
BEGIN:DAYLIGHT
TZOFFSETFROM:+0100
TZOFFSETTO:+0200
TZNAME:CEST
DTSTART:20240331T010000
END:DAYLIGHT
BEGIN:STANDARD
TZOFFSETFROM:+0200
TZOFFSETTO:+0100
TZNAME:CET
DTSTART:20241027T010000
END:STANDARD
BEGIN:DAYLIGHT
TZOFFSETFROM:+0100
TZOFFSETTO:+0200
TZNAME:CEST
DTSTART:20250330T010000
END:DAYLIGHT
BEGIN:STANDARD
TZOFFSETFROM:+0200
TZOFFSETTO:+0100
TZNAME:CET
DTSTART:20251026T010000
END:STANDARD
BEGIN:DAYLIGHT
TZOFFSETFROM:+0100
TZOFFSETTO:+0200
TZNAME:CEST
DTSTART:20260329T010000
END:DAYLIGHT
BEGIN:STANDARD
TZOFFSETFROM:+0200
TZOFFSETTO:+0100
TZNAME:CET
DTSTART:20261025T010000
END:STANDARD
END:VTIMEZONE
BEGIN:VEVENT
DTSTART;TZID=Europe/Ljubljana:20250630T080000
DTEND;TZID=Europe/Ljubljana:20250630T160000
DTSTAMP:20260422T040059
CREATED:20250330T143204Z
LAST-MODIFIED:20250330T173650Z
UID:10005304-1751270400-1751299200@loncarskicentermaribor.si
SUMMARY:OTROŠKO POČITNIŠKO VARSTVO - 1. termin
DESCRIPTION:KREATIVNE POČITNICE ZA OTROKE\n\nIzkoristite počitnice svojih otrok za sproščeno in hkrati kreativno ustvarjanje\, krepitev motoričnih znanj\, vzpodbujanje ustvarjalnosti\, potrpežljivosti\, natančnosti\, vztrajnosti in prijetnega druženja.\n\n\n\n\n\nVsak dan:\n\nmed 8.00 in 16.00 uro\nv delavnici na Lentu\, Mesarski prehod 5\n vključena malica in kosilo\nstarost otrok od 5 do 15 let\nomejeno število otrok v skupini\n180 € / 5 dni\n50 € / 1 dan\n10 % družinski popust na drugega in tretjega otroka iz iste družine\n\n  \nVSE INFORMACIJE O POČITNIŠKEM VARSTVU \nPrijave sprejemamo na:\n info@loncarskicentermaribor.si\n 064 153 671\n\n\n\n\n\nMožno je rezervirati tudi druge termine po dogovoru za: \n\nOtroška praznovanja\nPraznovanja za odrasle\nSamostojno ustvarjanje\nTeam Building za skupine / 4 ali več kot 4 osebe\nLončarske pokušine in izkušnje za več oseb\nSouporaba delavnice na Lentu\, najem po urah ali mesečni najem
URL:https://loncarskicentermaribor.si/dogodek/otrosko-pocitnisko-varstvo-1-termin/2025-06-30/
LOCATION:Mesarski prehod 5\, 2000 Maribor (Lent)\, Mesarski prehod 5\, Maribor\, 2000\, Slovenija
ATTACH;FMTTYPE=image/png:https://loncarskicentermaribor.si/wp-content/uploads/2025/03/LCM_web-20.png
ORGANIZER;CN="Lon%C4%8Darski center Maribor":MAILTO:info@loncarskicentermaribor.si
END:VEVENT
BEGIN:VEVENT
DTSTART;TZID=Europe/Ljubljana:20250701T080000
DTEND;TZID=Europe/Ljubljana:20250701T160000
DTSTAMP:20260422T040059
CREATED:20250330T143204Z
LAST-MODIFIED:20250330T173650Z
UID:10006456-1751356800-1751385600@loncarskicentermaribor.si
SUMMARY:OTROŠKO POČITNIŠKO VARSTVO - 1. termin
DESCRIPTION:KREATIVNE POČITNICE ZA OTROKE\n\nIzkoristite počitnice svojih otrok za sproščeno in hkrati kreativno ustvarjanje\, krepitev motoričnih znanj\, vzpodbujanje ustvarjalnosti\, potrpežljivosti\, natančnosti\, vztrajnosti in prijetnega druženja.\n\n\n\n\n\nVsak dan:\n\nmed 8.00 in 16.00 uro\nv delavnici na Lentu\, Mesarski prehod 5\n vključena malica in kosilo\nstarost otrok od 5 do 15 let\nomejeno število otrok v skupini\n180 € / 5 dni\n50 € / 1 dan\n10 % družinski popust na drugega in tretjega otroka iz iste družine\n\n  \nVSE INFORMACIJE O POČITNIŠKEM VARSTVU \nPrijave sprejemamo na:\n info@loncarskicentermaribor.si\n 064 153 671\n\n\n\n\n\nMožno je rezervirati tudi druge termine po dogovoru za: \n\nOtroška praznovanja\nPraznovanja za odrasle\nSamostojno ustvarjanje\nTeam Building za skupine / 4 ali več kot 4 osebe\nLončarske pokušine in izkušnje za več oseb\nSouporaba delavnice na Lentu\, najem po urah ali mesečni najem
URL:https://loncarskicentermaribor.si/dogodek/otrosko-pocitnisko-varstvo-1-termin/2025-07-01/
LOCATION:Mesarski prehod 5\, 2000 Maribor (Lent)\, Mesarski prehod 5\, Maribor\, 2000\, Slovenija
ATTACH;FMTTYPE=image/png:https://loncarskicentermaribor.si/wp-content/uploads/2025/03/LCM_web-20.png
ORGANIZER;CN="Lon%C4%8Darski center Maribor":MAILTO:info@loncarskicentermaribor.si
END:VEVENT
BEGIN:VEVENT
DTSTART;TZID=Europe/Ljubljana:20250702T080000
DTEND;TZID=Europe/Ljubljana:20250702T160000
DTSTAMP:20260422T040059
CREATED:20250330T143204Z
LAST-MODIFIED:20250330T173650Z
UID:10006457-1751443200-1751472000@loncarskicentermaribor.si
SUMMARY:OTROŠKO POČITNIŠKO VARSTVO - 1. termin
DESCRIPTION:KREATIVNE POČITNICE ZA OTROKE\n\nIzkoristite počitnice svojih otrok za sproščeno in hkrati kreativno ustvarjanje\, krepitev motoričnih znanj\, vzpodbujanje ustvarjalnosti\, potrpežljivosti\, natančnosti\, vztrajnosti in prijetnega druženja.\n\n\n\n\n\nVsak dan:\n\nmed 8.00 in 16.00 uro\nv delavnici na Lentu\, Mesarski prehod 5\n vključena malica in kosilo\nstarost otrok od 5 do 15 let\nomejeno število otrok v skupini\n180 € / 5 dni\n50 € / 1 dan\n10 % družinski popust na drugega in tretjega otroka iz iste družine\n\n  \nVSE INFORMACIJE O POČITNIŠKEM VARSTVU \nPrijave sprejemamo na:\n info@loncarskicentermaribor.si\n 064 153 671\n\n\n\n\n\nMožno je rezervirati tudi druge termine po dogovoru za: \n\nOtroška praznovanja\nPraznovanja za odrasle\nSamostojno ustvarjanje\nTeam Building za skupine / 4 ali več kot 4 osebe\nLončarske pokušine in izkušnje za več oseb\nSouporaba delavnice na Lentu\, najem po urah ali mesečni najem
URL:https://loncarskicentermaribor.si/dogodek/otrosko-pocitnisko-varstvo-1-termin/2025-07-02/
LOCATION:Mesarski prehod 5\, 2000 Maribor (Lent)\, Mesarski prehod 5\, Maribor\, 2000\, Slovenija
ATTACH;FMTTYPE=image/png:https://loncarskicentermaribor.si/wp-content/uploads/2025/03/LCM_web-20.png
ORGANIZER;CN="Lon%C4%8Darski center Maribor":MAILTO:info@loncarskicentermaribor.si
END:VEVENT
BEGIN:VEVENT
DTSTART;TZID=Europe/Ljubljana:20250703T080000
DTEND;TZID=Europe/Ljubljana:20250703T160000
DTSTAMP:20260422T040059
CREATED:20250330T143204Z
LAST-MODIFIED:20250330T173650Z
UID:10006458-1751529600-1751558400@loncarskicentermaribor.si
SUMMARY:OTROŠKO POČITNIŠKO VARSTVO - 1. termin
DESCRIPTION:KREATIVNE POČITNICE ZA OTROKE\n\nIzkoristite počitnice svojih otrok za sproščeno in hkrati kreativno ustvarjanje\, krepitev motoričnih znanj\, vzpodbujanje ustvarjalnosti\, potrpežljivosti\, natančnosti\, vztrajnosti in prijetnega druženja.\n\n\n\n\n\nVsak dan:\n\nmed 8.00 in 16.00 uro\nv delavnici na Lentu\, Mesarski prehod 5\n vključena malica in kosilo\nstarost otrok od 5 do 15 let\nomejeno število otrok v skupini\n180 € / 5 dni\n50 € / 1 dan\n10 % družinski popust na drugega in tretjega otroka iz iste družine\n\n  \nVSE INFORMACIJE O POČITNIŠKEM VARSTVU \nPrijave sprejemamo na:\n info@loncarskicentermaribor.si\n 064 153 671\n\n\n\n\n\nMožno je rezervirati tudi druge termine po dogovoru za: \n\nOtroška praznovanja\nPraznovanja za odrasle\nSamostojno ustvarjanje\nTeam Building za skupine / 4 ali več kot 4 osebe\nLončarske pokušine in izkušnje za več oseb\nSouporaba delavnice na Lentu\, najem po urah ali mesečni najem
URL:https://loncarskicentermaribor.si/dogodek/otrosko-pocitnisko-varstvo-1-termin/2025-07-03/
LOCATION:Mesarski prehod 5\, 2000 Maribor (Lent)\, Mesarski prehod 5\, Maribor\, 2000\, Slovenija
ATTACH;FMTTYPE=image/png:https://loncarskicentermaribor.si/wp-content/uploads/2025/03/LCM_web-20.png
ORGANIZER;CN="Lon%C4%8Darski center Maribor":MAILTO:info@loncarskicentermaribor.si
END:VEVENT
BEGIN:VEVENT
DTSTART;TZID=Europe/Ljubljana:20250704T080000
DTEND;TZID=Europe/Ljubljana:20250704T160000
DTSTAMP:20260422T040059
CREATED:20250330T143204Z
LAST-MODIFIED:20250330T173650Z
UID:10006459-1751616000-1751644800@loncarskicentermaribor.si
SUMMARY:OTROŠKO POČITNIŠKO VARSTVO - 1. termin
DESCRIPTION:KREATIVNE POČITNICE ZA OTROKE\n\nIzkoristite počitnice svojih otrok za sproščeno in hkrati kreativno ustvarjanje\, krepitev motoričnih znanj\, vzpodbujanje ustvarjalnosti\, potrpežljivosti\, natančnosti\, vztrajnosti in prijetnega druženja.\n\n\n\n\n\nVsak dan:\n\nmed 8.00 in 16.00 uro\nv delavnici na Lentu\, Mesarski prehod 5\n vključena malica in kosilo\nstarost otrok od 5 do 15 let\nomejeno število otrok v skupini\n180 € / 5 dni\n50 € / 1 dan\n10 % družinski popust na drugega in tretjega otroka iz iste družine\n\n  \nVSE INFORMACIJE O POČITNIŠKEM VARSTVU \nPrijave sprejemamo na:\n info@loncarskicentermaribor.si\n 064 153 671\n\n\n\n\n\nMožno je rezervirati tudi druge termine po dogovoru za: \n\nOtroška praznovanja\nPraznovanja za odrasle\nSamostojno ustvarjanje\nTeam Building za skupine / 4 ali več kot 4 osebe\nLončarske pokušine in izkušnje za več oseb\nSouporaba delavnice na Lentu\, najem po urah ali mesečni najem
URL:https://loncarskicentermaribor.si/dogodek/otrosko-pocitnisko-varstvo-1-termin/2025-07-04/
LOCATION:Mesarski prehod 5\, 2000 Maribor (Lent)\, Mesarski prehod 5\, Maribor\, 2000\, Slovenija
ATTACH;FMTTYPE=image/png:https://loncarskicentermaribor.si/wp-content/uploads/2025/03/LCM_web-20.png
ORGANIZER;CN="Lon%C4%8Darski center Maribor":MAILTO:info@loncarskicentermaribor.si
END:VEVENT
BEGIN:VEVENT
DTSTART;TZID=Europe/Ljubljana:20250704T160000
DTEND;TZID=Europe/Ljubljana:20250704T180000
DTSTAMP:20260422T040059
CREATED:20250629T171517Z
LAST-MODIFIED:20250629T171517Z
UID:10006461-1751644800-1751652000@loncarskicentermaribor.si
SUMMARY:POLETNI PETKI z Dido
DESCRIPTION:POLETNI PETKI z Dido\n\nv Lončarski center Maribor\n\n\nKreativni oddih je primeren tako začetnike kot tiste\, ki ste se z lončarstvom že srečali. Glino\, ves material in orodje dobite na delavnici. Vaše unikatne izdelke\, ki so primerni za stik z živili in pranje v pomivalnem stroju\, pa prevzamete 14 dni po delavnici.\n\n\n\nCena ene delavnice: 45 € | osebo\nPaket štirih delavnic: 160 € | osebo\n\nŠtevilo mest je OMEJENO.\n\n\nDelavnice potekajo na Mlinski ulici 24\, Maribor\n\nPRIJAVA:\n064 153 671\n info@loncarskicentermaribor.si
URL:https://loncarskicentermaribor.si/dogodek/poletni-petki-z-dido/
LOCATION:MLINSKA ULICA 24\, Mlinska ulica 24\, 2000 Maribor\, 2000\, Slovenija
ATTACH;FMTTYPE=image/png:https://loncarskicentermaribor.si/wp-content/uploads/2025/06/LCM_web1-9.png
ORGANIZER;CN="Lon%C4%8Darski center Maribor":MAILTO:info@loncarskicentermaribor.si
END:VEVENT
BEGIN:VEVENT
DTSTART;TZID=Europe/Ljubljana:20250705T090000
DTEND;TZID=Europe/Ljubljana:20250705T120000
DTSTAMP:20260422T040059
CREATED:20251004T160634Z
LAST-MODIFIED:20251010T093042Z
UID:10006647-1751706000-1751716800@loncarskicentermaribor.si
SUMMARY:OTROCI\, DRUŽINE ali POSAMEZNIKI
DESCRIPTION:Delavnica oblikovanja gline za otroke\, družine ali posameznike \nSobotni termin je na voljo med 9.00 in 12.00 uro \nIzbirate lahko med raznovrstnimi delavnicami: \n\nDelavnica oblikovanja gline za otroke\, 90 minut /20 €\, 2 uri / 25€  ali  3 ure / 35 €\nDružinska delavnica\, 2 uri / 25 € po osebi\nLončarska pokušina\, 2 uri / 35 €\nLončarska izkušnja\, 3 ure / 45 €\n\n  \nV delavnici na Lentu\, Mesarski prehod 5 ali na Mlinski ulici 24\, Maribor \nPrijave na: 064 153 671\ninfo@loncarskicentermaribor.si \n  \nMožno je rezervirati tudi druge termine po dogovoru za: \n\nOtroška praznovanja\nPraznovanja za odrasle\nSamostojno ustvarjanje\nTeam Building za skupine / 4 ali več kot 4 osebe\nLončarske pokušine in izkušnje za več oseb\nSouporaba delavnice in pripomočkov\, najem po urah ali mesečni najem
URL:https://loncarskicentermaribor.si/dogodek/otroci-druzine-ali-posamezniki-4/2025-07-05/
LOCATION:Mesarski prehod 5\, 2000 Maribor (Lent)\, Mesarski prehod 5\, Maribor\, 2000\, Slovenija
CATEGORIES:Za odrasle,Za otroke
ATTACH;FMTTYPE=image/png:https://loncarskicentermaribor.si/wp-content/uploads/2025/10/LCM_web1-14-1.png
ORGANIZER;CN="Lon%C4%8Darski center Maribor":MAILTO:info@loncarskicentermaribor.si
END:VEVENT
END:VCALENDAR