BEGIN:VCALENDAR
VERSION:2.0
PRODID:-//Lončarski center Maribor - ECPv6.15.13//NONSGML v1.0//EN
CALSCALE:GREGORIAN
METHOD:PUBLISH
X-ORIGINAL-URL:https://loncarskicentermaribor.si
X-WR-CALDESC:Dogodki za Lončarski center Maribor
REFRESH-INTERVAL;VALUE=DURATION:PT1H
X-Robots-Tag:noindex
X-PUBLISHED-TTL:PT1H
BEGIN:VTIMEZONE
TZID:Europe/Ljubljana
BEGIN:DAYLIGHT
TZOFFSETFROM:+0100
TZOFFSETTO:+0200
TZNAME:CEST
DTSTART:20230326T010000
END:DAYLIGHT
BEGIN:STANDARD
TZOFFSETFROM:+0200
TZOFFSETTO:+0100
TZNAME:CET
DTSTART:20231029T010000
END:STANDARD
BEGIN:DAYLIGHT
TZOFFSETFROM:+0100
TZOFFSETTO:+0200
TZNAME:CEST
DTSTART:20240331T010000
END:DAYLIGHT
BEGIN:STANDARD
TZOFFSETFROM:+0200
TZOFFSETTO:+0100
TZNAME:CET
DTSTART:20241027T010000
END:STANDARD
BEGIN:DAYLIGHT
TZOFFSETFROM:+0100
TZOFFSETTO:+0200
TZNAME:CEST
DTSTART:20250330T010000
END:DAYLIGHT
BEGIN:STANDARD
TZOFFSETFROM:+0200
TZOFFSETTO:+0100
TZNAME:CET
DTSTART:20251026T010000
END:STANDARD
END:VTIMEZONE
BEGIN:VEVENT
DTSTART;TZID=Europe/Ljubljana:20240910T170000
DTEND;TZID=Europe/Ljubljana:20240910T190000
DTSTAMP:20260421T073229
CREATED:20240101T211213Z
LAST-MODIFIED:20240101T212918Z
UID:10002248-1725987600-1725994800@loncarskicentermaribor.si
SUMMARY:ŽGANJE IZDELKOV in PRODAJA GLINE
DESCRIPTION:SPREJEM IZDELKOV ZA ŽGANJE in PRODAJA GLINE \n\nvsak torek med 17.00 in 19.00 uro\nsprejemamo izdelke za žganje\nbiskvitno žganje na 960o C\nglazurno žganje na 1.235o C\nedini pogoj je\, da razpolagate z informacijo kolikšna je max. temperatura žganja gline iz katerih so izdelki\nlahko kupite več vrst gline proizvajalca Witgert\n\n\n\nv delavnici na Mlinski ulici 24\, nasproti glavne avtobusne postaje\n\nInformacije na: 064 153 671\ninfo@loncarskicentermaribor.si \n  \nMožno je rezervirati termine za izvedbo delavnic po dogovoru za: \n\notroška praznovanja\npraznovanja za odrasle\nsamostojno ustvarjanje\nTeam Building za skupine / 4 ali več kot 4 osebe\nLončarske pokušine in izkušnje za več oseb
URL:https://loncarskicentermaribor.si/dogodek/zganje-izdelkov-in-prodaja-gline/2024-09-10/
LOCATION:MLINSKA ULICA 24\, Mlinska ulica 24\, 2000 Maribor\, 2000\, Slovenija
ATTACH;FMTTYPE=image/jpeg:https://loncarskicentermaribor.si/wp-content/uploads/2024/01/Screenshot_20240101_222440_Gallery-e1704144543707.jpg
ORGANIZER;CN="Lon%C4%8Darski center Maribor":MAILTO:info@loncarskicentermaribor.si
END:VEVENT
BEGIN:VEVENT
DTSTART;TZID=Europe/Ljubljana:20240911T090000
DTEND;TZID=Europe/Ljubljana:20240911T120000
DTSTAMP:20260421T073229
CREATED:20231119T092159Z
LAST-MODIFIED:20231230T191522Z
UID:10001586-1726045200-1726056000@loncarskicentermaribor.si
SUMMARY:OBLIKOVANJE GLINE NA LONČARSKEM VRETENU
DESCRIPTION:OBLIKOVANJE GLINE NA LONČARSKEM VRETENU \n\nvsako sredo med 9.00 in 12.00 uro\nlončarska izkušnja ali pokušina\nprosto oblikovanje na lončarskem vretenu\npod mentorstvom\n\n  \nOPIS \nProsto ustvarjanje pod mentorstvom je namenjeno popolnim začetnikom in tistim\, ki še niso povsem samostojni. \n  \nLokacija: Delavnica na Lentu\, Mesarski prehod 5\, Maribor \nPrijave na: 064 153 671\ninfo@loncarskicentermaribor.si \n  \nMožno je rezervirati tudi druge termine po dogovoru za: \n\notroška praznovanja\npraznovanja za odrasle\nsamostojno ustvarjanje\nTeam Building za skupine / 4 ali več kot 4 osebe\nLončarske pokušine in izkušnje za več oseb
URL:https://loncarskicentermaribor.si/dogodek/oblikovanje-gline-na-loncarskem-vretenu/2024-09-11/
LOCATION:Mesarski prehod 5\, 2000 Maribor (Lent)\, Mesarski prehod 5\, Maribor\, 2000\, Slovenija
ATTACH;FMTTYPE=image/jpeg:https://loncarskicentermaribor.si/wp-content/uploads/2023/11/20180918_185252-scaled-e1759595933859.jpg
ORGANIZER;CN="Lon%C4%8Darski center Maribor":MAILTO:info@loncarskicentermaribor.si
END:VEVENT
BEGIN:VEVENT
DTSTART;TZID=Europe/Ljubljana:20240912T160000
DTEND;TZID=Europe/Ljubljana:20240912T173000
DTSTAMP:20260421T073229
CREATED:20240905T114447Z
LAST-MODIFIED:20241028T105729Z
UID:10003175-1726156800-1726162200@loncarskicentermaribor.si
SUMMARY:OTROŠKA DELAVNICA
DESCRIPTION:OTROŠKA DELAVNICA oblikovanja gline \n\nkreativna delavnica za otroke\nprimerna za starost med 5 in 15 let\n\n  \nCena \n\n20 € / 90 minut\n\nV delavnici na Lentu\, Mesarski prehod 5\, Maribor \nPrijave na: 064 153 671\ninfo@loncarskicentermaribor.si \n  \nMožno je rezervirati tudi druge termine po dogovoru za: \n\notroška praznovanja\npraznovanja za odrasle\nsamostojno ustvarjanje\nTeam Building za skupine / 4 ali več kot 4 osebe\nLončarske pokušine in izkušnje za več oseb\nSouporaba delavnice in pripomočkov\n\n 
URL:https://loncarskicentermaribor.si/dogodek/otroska-delavnica-13/2024-09-12/
LOCATION:Mesarski prehod 5\, 2000 Maribor (Lent)\, Mesarski prehod 5\, Maribor\, 2000\, Slovenija
CATEGORIES:Za otroke
ATTACH;FMTTYPE=image/png:https://loncarskicentermaribor.si/wp-content/uploads/2022/01/LCM_delavnica-januar-2022-4.png
ORGANIZER;CN="Lon%C4%8Darski center Maribor":MAILTO:info@loncarskicentermaribor.si
END:VEVENT
BEGIN:VEVENT
DTSTART;TZID=Europe/Ljubljana:20240914T090000
DTEND;TZID=Europe/Ljubljana:20240914T120000
DTSTAMP:20260421T073229
CREATED:20240905T113619Z
LAST-MODIFIED:20241208T124245Z
UID:10005066-1726304400-1726315200@loncarskicentermaribor.si
SUMMARY:OTROCI\, DRUŽINE ali POSAMEZNIKI
DESCRIPTION:Delavnica oblikovanja gline za otroke\, družine ali posameznike \nSobotni termin je na voljo med 9.00 in 12.00 uro \nIzbirate lahko med raznovrstnimi delavnicami: \n\nDelavnica oblikovanja gline za otroke\, 90 minut /20 €\, 2 uri / 25€  ali  3 ure / 35 €\nDružinska delavnica\, 2 uri / 25 € po osebi\nLončarska pokušina\, 2 uri / 35 €\nLončarska izkušnja\, 3 ure / 45 €\n\n  \nV delavnici na Lentu\, Mesarski prehod 5\, Maribor \nPrijave na: 064 153 671\ninfo@loncarskicentermaribor.si \n  \nMožno je rezervirati tudi druge termine po dogovoru za: \n\nOtroška praznovanja\nPraznovanja za odrasle\nSamostojno ustvarjanje\nTeam Building za skupine / 4 ali več kot 4 osebe\nLončarske pokušine in izkušnje za več oseb\nSouporaba delavnice in pripomočkov\, najem po urah ali mesečni najem
URL:https://loncarskicentermaribor.si/dogodek/otroci-druzine-ali-posamezniki-3/2024-09-14/
LOCATION:Mesarski prehod 5\, 2000 Maribor (Lent)\, Mesarski prehod 5\, Maribor\, 2000\, Slovenija
ATTACH;FMTTYPE=image/jpeg:https://loncarskicentermaribor.si/wp-content/uploads/2023/11/Otroske.jpg
ORGANIZER;CN="Lon%C4%8Darski center Maribor":MAILTO:info@loncarskicentermaribor.si
END:VEVENT
BEGIN:VEVENT
DTSTART;TZID=Europe/Ljubljana:20240914T090000
DTEND;TZID=Europe/Ljubljana:20240914T120000
DTSTAMP:20260421T073229
CREATED:20251004T160634Z
LAST-MODIFIED:20251010T093042Z
UID:10006605-1726304400-1726315200@loncarskicentermaribor.si
SUMMARY:OTROCI\, DRUŽINE ali POSAMEZNIKI
DESCRIPTION:Delavnica oblikovanja gline za otroke\, družine ali posameznike \nSobotni termin je na voljo med 9.00 in 12.00 uro \nIzbirate lahko med raznovrstnimi delavnicami: \n\nDelavnica oblikovanja gline za otroke\, 90 minut /20 €\, 2 uri / 25€  ali  3 ure / 35 €\nDružinska delavnica\, 2 uri / 25 € po osebi\nLončarska pokušina\, 2 uri / 35 €\nLončarska izkušnja\, 3 ure / 45 €\n\n  \nV delavnici na Lentu\, Mesarski prehod 5 ali na Mlinski ulici 24\, Maribor \nPrijave na: 064 153 671\ninfo@loncarskicentermaribor.si \n  \nMožno je rezervirati tudi druge termine po dogovoru za: \n\nOtroška praznovanja\nPraznovanja za odrasle\nSamostojno ustvarjanje\nTeam Building za skupine / 4 ali več kot 4 osebe\nLončarske pokušine in izkušnje za več oseb\nSouporaba delavnice in pripomočkov\, najem po urah ali mesečni najem
URL:https://loncarskicentermaribor.si/dogodek/otroci-druzine-ali-posamezniki-4/2024-09-14/
LOCATION:Mesarski prehod 5\, 2000 Maribor (Lent)\, Mesarski prehod 5\, Maribor\, 2000\, Slovenija
CATEGORIES:Za odrasle,Za otroke
ATTACH;FMTTYPE=image/png:https://loncarskicentermaribor.si/wp-content/uploads/2025/10/LCM_web1-14-1.png
ORGANIZER;CN="Lon%C4%8Darski center Maribor":MAILTO:info@loncarskicentermaribor.si
END:VEVENT
END:VCALENDAR