BEGIN:VCALENDAR
VERSION:2.0
PRODID:-//Lončarski center Maribor - ECPv6.15.13//NONSGML v1.0//EN
CALSCALE:GREGORIAN
METHOD:PUBLISH
X-WR-CALNAME:Lončarski center Maribor
X-ORIGINAL-URL:https://loncarskicentermaribor.si
X-WR-CALDESC:Dogodki za Lončarski center Maribor
REFRESH-INTERVAL;VALUE=DURATION:PT1H
X-Robots-Tag:noindex
X-PUBLISHED-TTL:PT1H
BEGIN:VTIMEZONE
TZID:Europe/Ljubljana
BEGIN:DAYLIGHT
TZOFFSETFROM:+0100
TZOFFSETTO:+0200
TZNAME:CEST
DTSTART:20240331T010000
END:DAYLIGHT
BEGIN:STANDARD
TZOFFSETFROM:+0200
TZOFFSETTO:+0100
TZNAME:CET
DTSTART:20241027T010000
END:STANDARD
BEGIN:DAYLIGHT
TZOFFSETFROM:+0100
TZOFFSETTO:+0200
TZNAME:CEST
DTSTART:20250330T010000
END:DAYLIGHT
BEGIN:STANDARD
TZOFFSETFROM:+0200
TZOFFSETTO:+0100
TZNAME:CET
DTSTART:20251026T010000
END:STANDARD
BEGIN:DAYLIGHT
TZOFFSETFROM:+0100
TZOFFSETTO:+0200
TZNAME:CEST
DTSTART:20260329T010000
END:DAYLIGHT
BEGIN:STANDARD
TZOFFSETFROM:+0200
TZOFFSETTO:+0100
TZNAME:CET
DTSTART:20261025T010000
END:STANDARD
END:VTIMEZONE
BEGIN:VEVENT
DTSTART;TZID=Europe/Ljubljana:20250304T153000
DTEND;TZID=Europe/Ljubljana:20250304T173000
DTSTAMP:20260422T013309
CREATED:20250228T204126Z
LAST-MODIFIED:20250301T090939Z
UID:10005271-1741102200-1741109400@loncarskicentermaribor.si
SUMMARY:KVAČKANJE ZA OTROKE
DESCRIPTION:🧶 TEČAJ KVAČKANJA ZA OTROKE \nUvajanje v kvačkanje – Trakovi za ključe \nAli vaš otrok rad ustvarja? Bi rad preizkusil nekaj novega? Naj tokrat namesto tablice ali telefona raje prime kvačko v roke in ustvari svoj prvi kvačkani izdelek! 🧵 \n🧶 Kaj nas čaka?\n✔ Ustvarjalno dopoldne v družbi super druščine\n✔ Zabaven in preprost uvod v kvačkanje – začnemo pri osnovah!\n✔ Vsak otrok odnese domov svoj unikaten izdelek\n✔ Tečaj vodi mentorica Tadeja z obširnim znanjem in prijazna asistentka\, ki bosta poskrbeli za strokovno in zabavno učenje\n✔ Prigrizki in pijača za dodatno energijo \nPROGRAM (6 zaporednih srečanj):\n4. 3. ➖ Uvajanje v kvačkanje – Trakovi za ključe\n11. 3.➖ Gumica za lase\n18. 3.➖ Podstavek za lonček\n25. 3.➖ Etui za telefon\n1. 4.➖ velikonočni izdelk\n8. 4. ➖ obesek \n📍Vse delavnice bodo potekale med 15.30 in 17.30 uro\, v delavnici na Lentu\, Mesarski prehod 5 \, Maribor. \n👦👧 Starost: otroci od 6 do 15 let. Tečaj je primeren za začetnike.\nŠtevilo mest je OMEJENO – skupina 8 – 10 otrok. \nCena\n1 obisk = 30 € | osebo\n6 obiskov = 150 € | osebo\nVes material in orodje otroci dobijo na tečaju. \nPrijava\n📱064 153 671\n📧 info@loncarskicentermaribor.si \nNaj otroci odkrijejo veselje do ustvarjanja\, se sprostijo in preživijo super urice na zabaven način! 🥰 🧡
URL:https://loncarskicentermaribor.si/dogodek/kvackanje-za-otroke/
LOCATION:Mesarski prehod 5\, 2000 Maribor (Lent)\, Mesarski prehod 5\, Maribor\, 2000\, Slovenija
CATEGORIES:Za otroke
ATTACH;FMTTYPE=image/png:https://loncarskicentermaribor.si/wp-content/uploads/2025/02/LCM_web1-4.png
ORGANIZER;CN="Lon%C4%8Darski center Maribor":MAILTO:info@loncarskicentermaribor.si
END:VEVENT
END:VCALENDAR