BEGIN:VCALENDAR
VERSION:2.0
PRODID:-//Lončarski center Maribor - ECPv6.15.13//NONSGML v1.0//EN
CALSCALE:GREGORIAN
METHOD:PUBLISH
X-WR-CALNAME:Lončarski center Maribor
X-ORIGINAL-URL:https://loncarskicentermaribor.si
X-WR-CALDESC:Dogodki za Lončarski center Maribor
REFRESH-INTERVAL;VALUE=DURATION:PT1H
X-Robots-Tag:noindex
X-PUBLISHED-TTL:PT1H
BEGIN:VTIMEZONE
TZID:Europe/Ljubljana
BEGIN:DAYLIGHT
TZOFFSETFROM:+0100
TZOFFSETTO:+0200
TZNAME:CEST
DTSTART:20220327T010000
END:DAYLIGHT
BEGIN:STANDARD
TZOFFSETFROM:+0200
TZOFFSETTO:+0100
TZNAME:CET
DTSTART:20221030T010000
END:STANDARD
BEGIN:DAYLIGHT
TZOFFSETFROM:+0100
TZOFFSETTO:+0200
TZNAME:CEST
DTSTART:20230326T010000
END:DAYLIGHT
BEGIN:STANDARD
TZOFFSETFROM:+0200
TZOFFSETTO:+0100
TZNAME:CET
DTSTART:20231029T010000
END:STANDARD
BEGIN:DAYLIGHT
TZOFFSETFROM:+0100
TZOFFSETTO:+0200
TZNAME:CEST
DTSTART:20240331T010000
END:DAYLIGHT
BEGIN:STANDARD
TZOFFSETFROM:+0200
TZOFFSETTO:+0100
TZNAME:CET
DTSTART:20241027T010000
END:STANDARD
END:VTIMEZONE
BEGIN:VEVENT
DTSTART;TZID=Europe/Ljubljana:20231125T090000
DTEND;TZID=Europe/Ljubljana:20231125T120000
DTSTAMP:20260423T000339
CREATED:20231113T202010Z
LAST-MODIFIED:20231118T085236Z
UID:10001293-1700902800-1700913600@loncarskicentermaribor.si
SUMMARY:IZDELAVA VOŠČILNIC S SLIKICO IZ SVILE
DESCRIPTION:IZDELAVA VOŠČILNIC S SLIKICO IZ SVILE  \n\nV pripravah na bližajoče se Novo leto seveda ne pozabimo na lepe želje!\nIn ker so vse dobre želje skrbno zapisane\, naj bo tudi voščilnica čudovita.\nNa tečaju si vsak izdela set šestih voščilnic s prav posebnim detajlom – vstavkom iz svile.\nNajprej se motiv nariše na svilo (dimenzije so majhne!)\, nato pa se naučimo\, kako izdelano kreacijo vstavimo v okvir voščilnice.\nMotivi so seveda lahko poljubni – od abstraktnih do povsem novoletno obarvanih\n\nLe domišljija je vaša omejitev! \nMaksimalno število udeležencev: 6 \nPohitite in si rezervirajte svoje mesto\, saj je število mest omejeno! Ne zamudite te priložnosti za ustvarjanje unikatnih svilenih izdelkov in spoznavanje umetnosti slikanja na svilo. \n  \nTrajanje delavnice: 3 ure \nCena: 30 € \n  \nZ vami bo Nina Holc \nPrijave na 031-585-531
URL:https://loncarskicentermaribor.si/dogodek/tecaj-slikanja-na-svilo-4/
LOCATION:Mesarski prehod 5\, 2000 Maribor (Lent)\, Mesarski prehod 5\, Maribor\, 2000\, Slovenija
CATEGORIES:Za odrasle,Za otroke
ATTACH;FMTTYPE=image/jpeg:https://loncarskicentermaribor.si/wp-content/uploads/2023/11/voscilnica-svila1.jpg
ORGANIZER;CN="Nina Holc":MAILTO:ninaholc@gmail.com
END:VEVENT
BEGIN:VEVENT
DTSTART;TZID=Europe/Ljubljana:20231124T170000
DTEND;TZID=Europe/Ljubljana:20231124T200000
DTSTAMP:20260423T000339
CREATED:20231113T175856Z
LAST-MODIFIED:20231113T192115Z
UID:10001288-1700845200-1700856000@loncarskicentermaribor.si
SUMMARY:TEČAJ SLIKANJA NA SVILO
DESCRIPTION: TEČAJ SLIKANJA NA SVILO \n\nv petek\, 24. novembra\nob 17. uri\n\nKaj bomo počeli? \nSvila je čudovit material\, ki že sam po sebi izraža eleganco in prestiž\, vendar postane še toliko bolj dragocena\, ko je ročno poslikana. Na tej delavnici se bomo naučili vse o svili – od raziskovanja materiala do različnih tehnik poslikave. Vsak tečajnik bo prejel svilen robček in svileno rutko\, ki ju bo lahko poljubno poslikal. \nVsekakor pa ne gre zanemariti priložnosti\, da za izbrano osebo (ali zase 😉) izdelate čudovito unikatno novoletno darilo! 🎁 \nNa delavnici bomo skozi različne tehnike in ustvarjalne procese skupaj oblikovali prve unikatno poslikane svilene izdelke. Pridobivali boste znanje o barvah\, kompoziciji in tehnikah\, ki vam bodo omogočile ustvariti čudovite umetnine na svili. Trajanje delavnice: 3 ure Cena: 38€ Pohitite in si rezervirajte svoje mesto\, saj je število mest omejeno! Ne zamudite te priložnosti za ustvarjanje unikatnih svilenih izdelkov in spoznavanje umetnosti slikanja na svilo. \nTrajanje delavnice: 3 ure  \nCena: 38€ \n Maksimalno število udeležencev: 6 \nPohitite in si rezervirajte svoje mesto\, saj je število mest omejeno! Ne zamudite te priložnosti za ustvarjanje unikatnih svilenih izdelkov in spoznavanje umetnosti slikanja na svilo. \nZ vami bo Nina Holc \nPrijave na 031-585-531
URL:https://loncarskicentermaribor.si/dogodek/tecaj-slikanja-na-svilo-3/
LOCATION:Mesarski prehod 5\, 2000 Maribor (Lent)\, Mesarski prehod 5\, Maribor\, 2000\, Slovenija
CATEGORIES:Za odrasle,Za otroke
ATTACH;FMTTYPE=image/jpeg:https://loncarskicentermaribor.si/wp-content/uploads/2023/11/IMG_7327-scaled.jpg
ORGANIZER;CN="Nina Holc":MAILTO:ninaholc@gmail.com
END:VEVENT
BEGIN:VEVENT
DTSTART;TZID=Europe/Ljubljana:20231104T170000
DTEND;TZID=Europe/Ljubljana:20231104T193000
DTSTAMP:20260423T000339
CREATED:20231101T194906Z
LAST-MODIFIED:20231101T194906Z
UID:10000641-1699117200-1699126200@loncarskicentermaribor.si
SUMMARY:DELAVNICA TISKA na bombažna oblačila
DESCRIPTION:Pridružite se nam na DELAVNICA TISKA na bombažna oblačila \nKaj bomo počeli? \n\nZA OTROKE \nPrvi termin 3.11. je namenjen otrokom\, saj se družimo od 9-12ih. Potiskamo bombažno vrečko (dobijo na tečaju) in bombažne majčke (ki jih prinesejo s seboj)\nCena 30€\nTrajanje delavnice: 3 ure\n\n\n\nZA ODRASLE \n Na sobotnem terminu 4.11. pa se od 17.-19.30 družimo in tiskamo odrasli. Prav tako si potiskamo bombažno vrečko (dobijo na tečaju) in majice ali kak drug kos\, ki je potreben osvežitve.\n\nTrajanje delavnice: 2\,5 ure  \nCena: 28€  \nMaksimalno število udeležencev: 5 \nPohitite in si zagotovite svoje mesto\, saj je število mest omejeno! Ne zamudite te priložnosti za ustvarjanje edinstvenih tekstilnih izdelkov in spoznavanje tehnike sitotiska. \nPRIJAVI SE \n\n\n  \n\n\n\n Vaše ime in priimek\n \n \n E-pošta\n \n \n Telefonska številka\n \n \n Prijavljam se na delavnico:\nTISK NA TEKSTIL\n \n Zaupajte nam število oseb\, ki bi se delavnice udeležilo. Nam želite še kaj sporočiti? (neobvezno)\n \n \n\nStrinjam se\, da se moji podatki uporabijo za namen medsebojne komunikacije.\n \n\n\n \n Za vprašanja in prijave: \n\n\n\nNina 031 585 531\nninaholc@gmail.com
URL:https://loncarskicentermaribor.si/dogodek/delavnica-tiska-na-bombazna-oblacila/
LOCATION:Mesarski prehod 5\, 2000 Maribor (Lent)\, Mesarski prehod 5\, Maribor\, 2000\, Slovenija
CATEGORIES:Za odrasle,Za otroke
ORGANIZER;CN="Lon%C4%8Darski center Maribor":MAILTO:info@loncarskicentermaribor.si
END:VEVENT
BEGIN:VEVENT
DTSTART;TZID=Europe/Ljubljana:20231103T090000
DTEND;TZID=Europe/Ljubljana:20231103T120000
DTSTAMP:20260423T000339
CREATED:20231101T194958Z
LAST-MODIFIED:20231101T200742Z
UID:10000642-1699002000-1699012800@loncarskicentermaribor.si
SUMMARY:DELAVNICA TISKA na bombažna oblačila
DESCRIPTION:Pridružite se nam na DELAVNICA TISKA na bombažna oblačila \nKaj bomo počeli? \n\nZA OTROKE \nPrvi termin 3.11. je namenjen otrokom\, saj se družimo od 9-12ih. Potiskamo bombažno vrečko (dobijo na tečaju) in bombažne majčke (ki jih prinesejo s seboj)\nCena 30€\nTrajanje delavnice: 3 ure\n\n\n\nZA ODRASLE \n Na sobotnem terminu 4.11. pa se od 17.-19.30 družimo in tiskamo odrasli. Prav tako si potiskamo bombažno vrečko (dobijo na tečaju) in majice ali kak drug kos\, ki je potreben osvežitve.\n\nTrajanje delavnice: 2\,5 ure  \nCena: 28€  \nMaksimalno število udeležencev: 5 \nPohitite in si zagotovite svoje mesto\, saj je število mest omejeno! Ne zamudite te priložnosti za ustvarjanje edinstvenih tekstilnih izdelkov in spoznavanje tehnike sitotiska. \nPRIJAVI SE \n\n\n  \n\n\n\n Vaše ime in priimek\n \n \n E-pošta\n \n \n Telefonska številka\n \n \n Prijavljam se na delavnico:\nTISK NA TEKSTIL\n \n Zaupajte nam število oseb\, ki bi se delavnice udeležilo. Nam želite še kaj sporočiti? (neobvezno)\n \n \n\nStrinjam se\, da se moji podatki uporabijo za namen medsebojne komunikacije.\n \n\n\n \n Za vprašanja in prijave: \n\n\n\nNina 031 585 531\nninaholc@gmail.com
URL:https://loncarskicentermaribor.si/dogodek/delavnica-tiska-na-bombazna-oblacila-2/
LOCATION:Mesarski prehod 5\, 2000 Maribor (Lent)\, Mesarski prehod 5\, Maribor\, 2000\, Slovenija
CATEGORIES:Za odrasle,Za otroke
ORGANIZER;CN="Lon%C4%8Darski center Maribor":MAILTO:info@loncarskicentermaribor.si
END:VEVENT
BEGIN:VEVENT
DTSTART;TZID=Europe/Ljubljana:20231018T170000
DTEND;TZID=Europe/Ljubljana:20231018T200000
DTSTAMP:20260423T000339
CREATED:20231009T191900Z
LAST-MODIFIED:20231009T191900Z
UID:10000562-1697648400-1697659200@loncarskicentermaribor.si
SUMMARY:TEČAJ SLIKANJA NA SVILO
DESCRIPTION:Pridružite se nam na delavnici “TEČAJ SLIKANJA NA SVILO” v sredo\, 18. oktobra\, ob 17. uri. \nKaj bomo počeli? \nSvila je čudovit material\, ki že sam po sebi izraža eleganco in prestiž\, vendar postane še toliko bolj dragocena\, ko je ročno poslikana. Na tej delavnici se bomo naučili vse o svili – od raziskovanja materiala do različnih tehnik poslikave. Vsak tečajnik bo prejel svilen robček in svileno rutko\, ki ju bo lahko poljubno poslikal.  \nPriložnost pa je tudi\, da s seboj prinesete kak drug svilen izdelek\, primeren za poslikavo\, kot so šal\, prevleka za blazino\, in podobno. Priporočamo\, da so ti kosi manjših dimenzij\, ne večji od 60×60 cm. \nNa delavnici bomo skozi različne tehnike in ustvarjalne procese skupaj oblikovali prve unikatno poslikane svilene izdelke. Pridobivali boste znanje o barvah\, kompoziciji in tehnikah\, ki vam bodo omogočile ustvariti čudovite umetnine na svili. \nTrajanje delavnice: 3 ure  \nCena: 38€ \n Maksimalno število udeležencev: 6 \nPohitite in si rezervirajte svoje mesto\, saj je število mest omejeno! Ne zamudite te priložnosti za ustvarjanje unikatnih svilenih izdelkov in spoznavanje umetnosti slikanja na svilo. \nPRIJAVI SE \n\n\n  \n\n\n\n Vaše ime in priimek\n \n \n E-pošta\n \n \n Telefonska številka\n \n \n Prijavljam se na delavnico:\nTISK NA TEKSTIL\n \n Zaupajte nam število oseb\, ki bi se delavnice udeležilo. Nam želite še kaj sporočiti? (neobvezno)\n \n \n\nStrinjam se\, da se moji podatki uporabijo za namen medsebojne komunikacije.
URL:https://loncarskicentermaribor.si/dogodek/tecaj-slikanja-na-svilo-2/
LOCATION:Mesarski prehod 5\, 2000 Maribor (Lent)\, Mesarski prehod 5\, Maribor\, 2000\, Slovenija
CATEGORIES:Za odrasle,Za otroke
ORGANIZER;CN="Lon%C4%8Darski center Maribor":MAILTO:info@loncarskicentermaribor.si
END:VEVENT
BEGIN:VEVENT
DTSTART;TZID=Europe/Ljubljana:20231013T170000
DTEND;TZID=Europe/Ljubljana:20231013T193000
DTSTAMP:20260423T000339
CREATED:20231006T083810Z
LAST-MODIFIED:20231009T191830Z
UID:10000561-1697216400-1697225400@loncarskicentermaribor.si
SUMMARY:TEČAJ TISKA NA TEKSTIL
DESCRIPTION:Pridružite se nam na delavnici “TEČAJ TISKA NA TEKSTIL” v petek\, 13. oktobra\, ob 17. uri. \nKaj bomo počeli? \nNa ustvarjalni delavnici se bomo naučili umetnosti sitotiska. Vsak udeleženec bo prejel bombažno tekstilno vrečko in jo bo imel priložnost potiskati po svojih željah. \nPoleg tega boste imeli priložnost prinesti svojo majico ali dve (lahko tudi prevleko za blazino\, predpasnik ali kak drug tekstilni kos)\, ki ju boste lahko okrasili z vzorci iz sit\, ki bodo na voljo na delavnici. \nTo je kreativen proces\, v katerem bomo skupaj izbirali vzorce\, razpravljali o barvah\, kompoziciji in morebitnih nadaljnjih tehnikah obdelave ter dopolnitvah vzorca. Pomembno je\, da majice in tekstil\, ki jih želite potiskati\, predhodno operete in da so v svetlejših barvah (najbolje beli odtenki). Material naj bo iz naravnih vlaken\, kot so bombaž\, viskoza\, ali pa mešanica z prevladujočimi naravnimi vlakni. \nTrajanje delavnice: 2\,5 ure  \nCena: 28€  \nMaksimalno število udeležencev: 5 \nPohitite in si zagotovite svoje mesto\, saj je število mest omejeno! Ne zamudite te priložnosti za ustvarjanje edinstvenih tekstilnih izdelkov in spoznavanje tehnike sitotiska. \nPRIJAVI SE \n\n\n  \n\n\n\n Vaše ime in priimek\n \n \n E-pošta\n \n \n Telefonska številka\n \n \n Prijavljam se na delavnico:\nTISK NA TEKSTIL\n \n Zaupajte nam število oseb\, ki bi se delavnice udeležilo. Nam želite še kaj sporočiti? (neobvezno)\n \n \n\nStrinjam se\, da se moji podatki uporabijo za namen medsebojne komunikacije.
URL:https://loncarskicentermaribor.si/dogodek/tecaj-tiska-na-tekstil-2/
LOCATION:Mesarski prehod 5\, 2000 Maribor (Lent)\, Mesarski prehod 5\, Maribor\, 2000\, Slovenija
CATEGORIES:Za odrasle,Za otroke
ORGANIZER;CN="Lon%C4%8Darski center Maribor":MAILTO:info@loncarskicentermaribor.si
END:VEVENT
END:VCALENDAR