BEGIN:VCALENDAR
VERSION:2.0
PRODID:-//Lončarski center Maribor - ECPv6.15.13//NONSGML v1.0//EN
CALSCALE:GREGORIAN
METHOD:PUBLISH
X-WR-CALNAME:Lončarski center Maribor
X-ORIGINAL-URL:https://loncarskicentermaribor.si
X-WR-CALDESC:Dogodki za Lončarski center Maribor
REFRESH-INTERVAL;VALUE=DURATION:PT1H
X-Robots-Tag:noindex
X-PUBLISHED-TTL:PT1H
BEGIN:VTIMEZONE
TZID:Europe/Ljubljana
BEGIN:DAYLIGHT
TZOFFSETFROM:+0100
TZOFFSETTO:+0200
TZNAME:CEST
DTSTART:20250330T010000
END:DAYLIGHT
BEGIN:STANDARD
TZOFFSETFROM:+0200
TZOFFSETTO:+0100
TZNAME:CET
DTSTART:20251026T010000
END:STANDARD
BEGIN:DAYLIGHT
TZOFFSETFROM:+0100
TZOFFSETTO:+0200
TZNAME:CEST
DTSTART:20260329T010000
END:DAYLIGHT
BEGIN:STANDARD
TZOFFSETFROM:+0200
TZOFFSETTO:+0100
TZNAME:CET
DTSTART:20261025T010000
END:STANDARD
BEGIN:DAYLIGHT
TZOFFSETFROM:+0100
TZOFFSETTO:+0200
TZNAME:CEST
DTSTART:20270328T010000
END:DAYLIGHT
BEGIN:STANDARD
TZOFFSETFROM:+0200
TZOFFSETTO:+0100
TZNAME:CET
DTSTART:20271031T010000
END:STANDARD
END:VTIMEZONE
BEGIN:VEVENT
DTSTART;TZID=Europe/Ljubljana:20260430T090000
DTEND;TZID=Europe/Ljubljana:20260430T120000
DTSTAMP:20260422T121955
CREATED:20260421T204008Z
LAST-MODIFIED:20260421T205740Z
UID:10007423-1777539600-1777550400@loncarskicentermaribor.si
SUMMARY:OTROŠKE PRVOMAJSKE DELAVNICE
DESCRIPTION:POČITNIŠKE DELAVNICE ZA OTROKE in STARŠE \nIzkoristite počitnice svojih otrok za sproščeno in hkrati kreativno ustvarjanje\, krepitev motoričnih znanj\, vzpodbujanje ustvarjalnosti\, potrpežljivosti\, natančnosti\, vztrajnosti in prijetnega druženja. \nDelavnice so primerne za otroke od 5 pa do 15 let. \n\nmed 9.00 in 12.00 uro\nv delavnici na Lentu\, Mesarski prehod 5\nvključena sadna malica\nomejeno število otrok v skupini\n90 € / 3 dni\n35 € / 1 obisk\n\nPrijave na: 064 153 671\ninfo@loncarskicentermaribor.si \n___ \nMožno je rezervirati tudi druge termine po dogovoru za: \n\nOtroška praznovanja\nPraznovanja za odrasle\nSamostojno ustvarjanje\nTeam Building za skupine / 4 ali več kot 4 osebe\nLončarske pokušine in izkušnje za več oseb\nSouporaba delavnice na Lentu\, najem po urah ali mesečni najem
URL:https://loncarskicentermaribor.si/dogodek/prvomajske-delavnice-3/
CATEGORIES:Za otroke
ATTACH;FMTTYPE=image/png:https://loncarskicentermaribor.si/wp-content/uploads/2026/04/LCM_web2026-1-3.png
ORGANIZER;CN="Lon%C4%8Darski center Maribor":MAILTO:info@loncarskicentermaribor.si
END:VEVENT
END:VCALENDAR