BEGIN:VCALENDAR
VERSION:2.0
PRODID:-//Lončarski center Maribor - ECPv6.15.13//NONSGML v1.0//EN
CALSCALE:GREGORIAN
METHOD:PUBLISH
X-ORIGINAL-URL:https://loncarskicentermaribor.si
X-WR-CALDESC:Dogodki za Lončarski center Maribor
REFRESH-INTERVAL;VALUE=DURATION:PT1H
X-Robots-Tag:noindex
X-PUBLISHED-TTL:PT1H
BEGIN:VTIMEZONE
TZID:Europe/Ljubljana
BEGIN:DAYLIGHT
TZOFFSETFROM:+0100
TZOFFSETTO:+0200
TZNAME:CEST
DTSTART:20250330T010000
END:DAYLIGHT
BEGIN:STANDARD
TZOFFSETFROM:+0200
TZOFFSETTO:+0100
TZNAME:CET
DTSTART:20251026T010000
END:STANDARD
BEGIN:DAYLIGHT
TZOFFSETFROM:+0100
TZOFFSETTO:+0200
TZNAME:CEST
DTSTART:20260329T010000
END:DAYLIGHT
BEGIN:STANDARD
TZOFFSETFROM:+0200
TZOFFSETTO:+0100
TZNAME:CET
DTSTART:20261025T010000
END:STANDARD
BEGIN:DAYLIGHT
TZOFFSETFROM:+0100
TZOFFSETTO:+0200
TZNAME:CEST
DTSTART:20270328T010000
END:DAYLIGHT
BEGIN:STANDARD
TZOFFSETFROM:+0200
TZOFFSETTO:+0100
TZNAME:CET
DTSTART:20271031T010000
END:STANDARD
END:VTIMEZONE
BEGIN:VEVENT
DTSTART;TZID=Europe/Ljubljana:20260226T090000
DTEND;TZID=Europe/Ljubljana:20260226T120000
DTSTAMP:20260421T062953
CREATED:20260212T101317Z
LAST-MODIFIED:20260212T101317Z
UID:10007329-1772096400-1772107200@loncarskicentermaribor.si
SUMMARY:ZAČETNI TEČAJ OBLIKOVANJA GLINE
DESCRIPTION:Si želite ustvarjati z rokami in sprostiti svojo ustvarjalnost? Spoznali se bomo s tehnikami prostoročnega  oblikovanja in z oblikovanjem gline na vretenu \n\n\n\nZačetni tečaj ponujamo v sklopu 6 zaporednih srečanj – ob četrtkih med 9. in 12. uro.\n\n\n\nTečaj se izvaja v delavnici na Mlinski ulici 24\, Maribor.\n\n\nCena 250 € | osebo.\nGlina\, ves material in orodje dobite na tečaju.\n\n\n\nPROGRAM:\n oblikovanje iz polnega volumna\n oblikovanje s svaljki\n valjane plošče\n osnove na vretenu\, skledica\, lonček\n glaziranje s prozornimi glazurami\n\n\n\nPRIJAVA\n064 153 671\n info@loncarskicentermaribor.si\n\n\n\nDobrodošli
URL:https://loncarskicentermaribor.si/dogodek/zacetni-tecaj-oblikovanja-gline-37/2026-02-26/
LOCATION:MLINSKA ULICA 24\, Mlinska ulica 24\, 2000 Maribor\, 2000\, Slovenija
CATEGORIES:Za odrasle
ATTACH;FMTTYPE=image/png:https://loncarskicentermaribor.si/wp-content/uploads/2025/10/zacetni-tecaj-10-2025-8.png
ORGANIZER;CN="Lon%C4%8Darski center Maribor":MAILTO:info@loncarskicentermaribor.si
END:VEVENT
BEGIN:VEVENT
DTSTART;TZID=Europe/Ljubljana:20260226T170000
DTEND;TZID=Europe/Ljubljana:20260226T200000
DTSTAMP:20260421T062953
CREATED:20260212T101212Z
LAST-MODIFIED:20260212T102240Z
UID:10007342-1772125200-1772136000@loncarskicentermaribor.si
SUMMARY:ZAČETNI TEČAJ OBLIKOVANJA GLINE
DESCRIPTION:Si želite ustvarjati z rokami in sprostiti svojo ustvarjalnost? Spoznali se bomo s tehnikami prostoročnega  oblikovanja in z oblikovanjem gline na vretenu \n\n\n\nZačetni tečaj ponujamo v sklopu 6 zaporednih srečanj – ob četrtkih med 17.00 in 20.00 uro.\n\n\n\nTečaj se izvaja v delavnici na Mlinski ulici 24\, Maribor.\n\n\nCena 250 € | osebo.\nGlina\, ves material in orodje dobite na tečaju.\n\n\n\nPROGRAM:\n oblikovanje iz polnega volumna\n oblikovanje s svaljki\n valjane plošče\n osnove na vretenu\, skledica\, lonček\n glaziranje s prozornimi glazurami\n\n\n\nPRIJAVA\n064 153 671\n info@loncarskicentermaribor.si\n\n\n\nDobrodošli
URL:https://loncarskicentermaribor.si/dogodek/zacetni-tecaj-oblikovanja-gline-36/2026-02-26/
LOCATION:MLINSKA ULICA 24\, Mlinska ulica 24\, 2000 Maribor\, 2000\, Slovenija
CATEGORIES:Za odrasle
ATTACH;FMTTYPE=image/png:https://loncarskicentermaribor.si/wp-content/uploads/2025/10/zacetni-tecaj-10-2025-8.png
ORGANIZER;CN="Lon%C4%8Darski center Maribor":MAILTO:info@loncarskicentermaribor.si
END:VEVENT
END:VCALENDAR