BEGIN:VCALENDAR
VERSION:2.0
PRODID:-//Lončarski center Maribor - ECPv6.15.13//NONSGML v1.0//EN
CALSCALE:GREGORIAN
METHOD:PUBLISH
X-ORIGINAL-URL:https://loncarskicentermaribor.si
X-WR-CALDESC:Dogodki za Lončarski center Maribor
REFRESH-INTERVAL;VALUE=DURATION:PT1H
X-Robots-Tag:noindex
X-PUBLISHED-TTL:PT1H
BEGIN:VTIMEZONE
TZID:Europe/Ljubljana
BEGIN:DAYLIGHT
TZOFFSETFROM:+0100
TZOFFSETTO:+0200
TZNAME:CEST
DTSTART:20230326T010000
END:DAYLIGHT
BEGIN:STANDARD
TZOFFSETFROM:+0200
TZOFFSETTO:+0100
TZNAME:CET
DTSTART:20231029T010000
END:STANDARD
BEGIN:DAYLIGHT
TZOFFSETFROM:+0100
TZOFFSETTO:+0200
TZNAME:CEST
DTSTART:20240331T010000
END:DAYLIGHT
BEGIN:STANDARD
TZOFFSETFROM:+0200
TZOFFSETTO:+0100
TZNAME:CET
DTSTART:20241027T010000
END:STANDARD
BEGIN:DAYLIGHT
TZOFFSETFROM:+0100
TZOFFSETTO:+0200
TZNAME:CEST
DTSTART:20250330T010000
END:DAYLIGHT
BEGIN:STANDARD
TZOFFSETFROM:+0200
TZOFFSETTO:+0100
TZNAME:CET
DTSTART:20251026T010000
END:STANDARD
END:VTIMEZONE
BEGIN:VEVENT
DTSTART;TZID=Europe/Ljubljana:20241107T170000
DTEND;TZID=Europe/Ljubljana:20241107T190000
DTSTAMP:20260421T124230
CREATED:20241102T181240Z
LAST-MODIFIED:20241102T193856Z
UID:10003468-1730998800-1731006000@loncarskicentermaribor.si
SUMMARY:TEMATSKA DELAVNICA
DESCRIPTION:OBLIKOVANJE SERVIRNIH SKLEDIC \n\nprostoročno oblikovanje\nizdelali si bomo povezane servirne skledice za prigrizke ali omake\npo želji lahko izdelke okrasite z barvami\nprimerno tudi za začetnike\n\n  \nV delavnici na Lentu\, Mesarski prehod 5\, Maribor \nPrijave na: 064 153 671\ninfo@loncarskicentermaribor.si \n  \nMožno je rezervirati tudi druge termine po dogovoru za: \n\notroška praznovanja\npraznovanja za odrasle\nsamostojno ustvarjanje\nTeam Building za skupine / 4 ali več kot 4 osebe\nLončarske pokušine in izkušnje za več oseb
URL:https://loncarskicentermaribor.si/dogodek/oblikovanje-servirnih-skledic/
ORGANIZER;CN="Lon%C4%8Darski center Maribor":MAILTO:info@loncarskicentermaribor.si
END:VEVENT
BEGIN:VEVENT
DTSTART;TZID=Europe/Ljubljana:20241107T170000
DTEND;TZID=Europe/Ljubljana:20241107T200000
DTSTAMP:20260421T124230
CREATED:20240905T112237Z
LAST-MODIFIED:20240905T112443Z
UID:10003085-1730998800-1731009600@loncarskicentermaribor.si
SUMMARY:ZAČETNI TEČAJ OBLIKOVANJA GLINE
DESCRIPTION:ZAČETNI TEČAJ OBLIKOVANJA GLINE \nSpoznali se bomo s tremi tehnikami prostoročnega oblikovanja gline in oblikovanja gline na lončarskem vretenu. \nGlino\, ves ostali material in orodje dobite na delavnici. \n\nDobivali se bomo ob ponedeljkih\, 6 x zapored\nMed 17.00 in 20.00 uro\nLokacija: Mlinska ulica 24\, Maribor\nCena: 250\,00 €\n\nOmejeno število tečajnikov\, max. 8 oseb na delavnico. \n  \nPrijave na: 064 153 671\ninfo@loncarskicentermaribor.si \n  \nMožno je rezervirati tudi druge termine po dogovoru za: \n\notroška praznovanja\npraznovanja za odrasle\nsamostojno ustvarjanje\nTeam Building za skupine / 4 ali več kot 4 osebe\nLončarske pokušine in izkušnje za več oseb
URL:https://loncarskicentermaribor.si/dogodek/zacetni-tecaj-oblikovanja-gline-8/2024-11-07/
LOCATION:MLINSKA ULICA 24\, Mlinska ulica 24\, 2000 Maribor\, 2000\, Slovenija
CATEGORIES:Za odrasle
ATTACH;FMTTYPE=image/png:https://loncarskicentermaribor.si/wp-content/uploads/2024/09/zacetni-tecaj-09-2024-9.png
ORGANIZER;CN="Lon%C4%8Darski center Maribor":MAILTO:info@loncarskicentermaribor.si
END:VEVENT
END:VCALENDAR