BEGIN:VCALENDAR
VERSION:2.0
PRODID:-//Lončarski center Maribor - ECPv6.15.13//NONSGML v1.0//EN
CALSCALE:GREGORIAN
METHOD:PUBLISH
X-WR-CALNAME:Lončarski center Maribor
X-ORIGINAL-URL:https://loncarskicentermaribor.si
X-WR-CALDESC:Dogodki za Lončarski center Maribor
REFRESH-INTERVAL;VALUE=DURATION:PT1H
X-Robots-Tag:noindex
X-PUBLISHED-TTL:PT1H
BEGIN:VTIMEZONE
TZID:Europe/Ljubljana
BEGIN:DAYLIGHT
TZOFFSETFROM:+0100
TZOFFSETTO:+0200
TZNAME:CEST
DTSTART:20230326T010000
END:DAYLIGHT
BEGIN:STANDARD
TZOFFSETFROM:+0200
TZOFFSETTO:+0100
TZNAME:CET
DTSTART:20231029T010000
END:STANDARD
BEGIN:DAYLIGHT
TZOFFSETFROM:+0100
TZOFFSETTO:+0200
TZNAME:CEST
DTSTART:20240331T010000
END:DAYLIGHT
BEGIN:STANDARD
TZOFFSETFROM:+0200
TZOFFSETTO:+0100
TZNAME:CET
DTSTART:20241027T010000
END:STANDARD
BEGIN:DAYLIGHT
TZOFFSETFROM:+0100
TZOFFSETTO:+0200
TZNAME:CEST
DTSTART:20250330T010000
END:DAYLIGHT
BEGIN:STANDARD
TZOFFSETFROM:+0200
TZOFFSETTO:+0100
TZNAME:CET
DTSTART:20251026T010000
END:STANDARD
END:VTIMEZONE
BEGIN:VEVENT
DTSTART;TZID=Europe/Ljubljana:20240919T160000
DTEND;TZID=Europe/Ljubljana:20240919T173000
DTSTAMP:20260420T193248
CREATED:20240905T114447Z
LAST-MODIFIED:20241028T105729Z
UID:10003191-1726761600-1726767000@loncarskicentermaribor.si
SUMMARY:OTROŠKA DELAVNICA
DESCRIPTION:OTROŠKA DELAVNICA oblikovanja gline \n\nkreativna delavnica za otroke\nprimerna za starost med 5 in 15 let\n\n  \nCena \n\n20 € / 90 minut\n\nV delavnici na Lentu\, Mesarski prehod 5\, Maribor \nPrijave na: 064 153 671\ninfo@loncarskicentermaribor.si \n  \nMožno je rezervirati tudi druge termine po dogovoru za: \n\notroška praznovanja\npraznovanja za odrasle\nsamostojno ustvarjanje\nTeam Building za skupine / 4 ali več kot 4 osebe\nLončarske pokušine in izkušnje za več oseb\nSouporaba delavnice in pripomočkov\n\n 
URL:https://loncarskicentermaribor.si/dogodek/otroska-delavnica-13/2024-09-19/
LOCATION:Mesarski prehod 5\, 2000 Maribor (Lent)\, Mesarski prehod 5\, Maribor\, 2000\, Slovenija
CATEGORIES:Za otroke
ATTACH;FMTTYPE=image/png:https://loncarskicentermaribor.si/wp-content/uploads/2022/01/LCM_delavnica-januar-2022-4.png
ORGANIZER;CN="Lon%C4%8Darski center Maribor":MAILTO:info@loncarskicentermaribor.si
END:VEVENT
END:VCALENDAR