BEGIN:VCALENDAR
VERSION:2.0
PRODID:-//Lončarski center Maribor - ECPv6.15.13//NONSGML v1.0//EN
CALSCALE:GREGORIAN
METHOD:PUBLISH
X-WR-CALNAME:Lončarski center Maribor
X-ORIGINAL-URL:https://loncarskicentermaribor.si
X-WR-CALDESC:Dogodki za Lončarski center Maribor
REFRESH-INTERVAL;VALUE=DURATION:PT1H
X-Robots-Tag:noindex
X-PUBLISHED-TTL:PT1H
BEGIN:VTIMEZONE
TZID:Europe/Ljubljana
BEGIN:DAYLIGHT
TZOFFSETFROM:+0100
TZOFFSETTO:+0200
TZNAME:CEST
DTSTART:20230326T010000
END:DAYLIGHT
BEGIN:STANDARD
TZOFFSETFROM:+0200
TZOFFSETTO:+0100
TZNAME:CET
DTSTART:20231029T010000
END:STANDARD
BEGIN:DAYLIGHT
TZOFFSETFROM:+0100
TZOFFSETTO:+0200
TZNAME:CEST
DTSTART:20240331T010000
END:DAYLIGHT
BEGIN:STANDARD
TZOFFSETFROM:+0200
TZOFFSETTO:+0100
TZNAME:CET
DTSTART:20241027T010000
END:STANDARD
BEGIN:DAYLIGHT
TZOFFSETFROM:+0100
TZOFFSETTO:+0200
TZNAME:CEST
DTSTART:20250330T010000
END:DAYLIGHT
BEGIN:STANDARD
TZOFFSETFROM:+0200
TZOFFSETTO:+0100
TZNAME:CET
DTSTART:20251026T010000
END:STANDARD
END:VTIMEZONE
BEGIN:VEVENT
DTSTART;TZID=Europe/Ljubljana:20240826T080000
DTEND;TZID=Europe/Ljubljana:20240826T160000
DTSTAMP:20260421T073145
CREATED:20240330T064001Z
LAST-MODIFIED:20240330T175416Z
UID:10002929-1724659200-1724688000@loncarskicentermaribor.si
SUMMARY:OTROŠKO POČITNIŠKO VARSTVO - 4. termin
DESCRIPTION:KREATIVNE POČITNICE ZA OTROKE\n\nIzkoristite počitnice svojih otrok za sproščeno in hkrati kreativno ustvarjanje\, krepitev motoričnih znanj\, vzpodbujanje ustvarjalnosti\, potrpežljivosti\, natančnosti\, vztrajnosti in prijetnega druženja.\n\n\n\n\n\nVsak dan:\n\nmed 8.00 in 16.00 uro\nv delavnici na Lentu\, Mesarski prehod 5\nvključena malica in kosilo\nstarost otrok od 5 do 15 let\nomejeno število otrok v skupini\n180 € / 5 dni\n10 % družinski popust na drugega in tretjega otroka iz iste družine\n\n\nALI \n\nmed 9.00 in 13.00 uro\nvključena samo malica\ncena za 1 obisk znaša 45 €\ncena za 5 obiskov znaša 140 €\n\n\n  \nVSE INFORMACIJE O POČITNIŠKEM VARSTVU \nPrijave sprejemamo na:\n info@loncarskicentermaribor.si\n 064 153 671\n\n\n\n\n\nMožno je rezervirati tudi druge termine po dogovoru za: \n\notroška praznovanja\npraznovanja za odrasle\nsamostojno ustvarjanje\nTeam Building za skupine / 4 ali več kot 4 osebe\nLončarske pokušine in izkušnje za več oseb
URL:https://loncarskicentermaribor.si/dogodek/otrosko-pocitnisko-varstvo-4-termin/
LOCATION:Mesarski prehod 5\, 2000 Maribor (Lent)\, Mesarski prehod 5\, Maribor\, 2000\, Slovenija
ORGANIZER;CN="Lon%C4%8Darski center Maribor":MAILTO:info@loncarskicentermaribor.si
END:VEVENT
END:VCALENDAR